BEGIN:VCALENDAR
VERSION:2.0
PRODID:-//eventon.com NONSGML v1.0//EN
CALSCALE:GREGORIAN
METHOD:PUBLISH
BEGIN:VEVENT
UID:69e73d6f6adbf
DTSTAMP:20260421T090343Z
DTSTART:20230803T150000Z
DTEND:20230803T220100Z
LOCATION:
SUMMARY:Randonnée gourmande
DESCRIPTION:\nhttps://www.pradesardeche.fr/evenement/randonnee-gourmande/
URL:https://www.pradesardeche.fr/evenement/randonnee-gourmande/
END:VEVENT
END:VCALENDAR