BEGIN:VCALENDAR
VERSION:2.0
PRODID:-//eventon.com NONSGML v1.0//EN
CALSCALE:GREGORIAN
METHOD:PUBLISH
BEGIN:VEVENT
UID:69e73f50ef701
DTSTAMP:20260421T091144Z
DTSTART:20251129T170000Z
DTEND:20251129T220000Z
LOCATION:Place publique de Prades
SUMMARY:SOUPE AUX CHOUX
DESCRIPTION:SOUPE AUX CHOUX\nhttps://www.pradesardeche.fr/evenement/soupe-a
 ux-choux/
URL:https://www.pradesardeche.fr/evenement/soupe-aux-choux/
END:VEVENT
END:VCALENDAR