BEGIN:VCALENDAR
VERSION:2.0
PRODID:-//eventon.com NONSGML v1.0//EN
CALSCALE:GREGORIAN
METHOD:PUBLISH
BEGIN:VEVENT
UID:69e5e36ddab76
DTSTAMP:20260420T082725Z
DTSTART:20250730T193000Z
DTEND:20250730T215900Z
LOCATION:Place de l&#039;école
SUMMARY:CINÉMA SOUS LES ÉTOILES
DESCRIPTION:CINÉMA SOUS LES ÉTOILES\nhttps://www.pradesardeche.fr/eveneme
 nt/cinema-sous-les-etoiles/
URL:https://www.pradesardeche.fr/evenement/cinema-sous-les-etoiles/
END:VEVENT
END:VCALENDAR