BEGIN:VCALENDAR
VERSION:2.0
PRODID:-//eventon.com NONSGML v1.0//EN
CALSCALE:GREGORIAN
METHOD:PUBLISH
BEGIN:VEVENT
UID:69e9ddbebc56a
DTSTAMP:20260423T085214Z
DTSTART:20250607T130000Z
DTEND:20250607T180000Z
LOCATION:place du village place du village
SUMMARY:Vide grenier organisé par le CEFIP
DESCRIPTION:Vide-grenier Buvette et Petite restauration. Emplacements gratu
 its Rens. 04 27 52 03 04\nhttps://www.pradesardeche.fr/evenement/vide-greni
 er-organise-par-le-cefip/
URL:https://www.pradesardeche.fr/evenement/vide-grenier-organise-par-le-cefip/
END:VEVENT
END:VCALENDAR