BEGIN:VCALENDAR
VERSION:2.0
PRODID:-//eventon.com NONSGML v1.0//EN
CALSCALE:GREGORIAN
METHOD:PUBLISH
BEGIN:VEVENT
UID:69e5f0872c906
DTSTAMP:20260420T092319Z
DTSTART:20241006T080000Z
DTEND:20241006T160000Z
LOCATION:Salle des fêtes Place de la mairie 07380 Prades
SUMMARY:Exposition bourse d'oiseaux du club ornithologique
DESCRIPTION:Exposition bourse d'oiseaux du club ornithologique\nhttps://www
 .pradesardeche.fr/evenement/exposition-bourse-doiseaux-du-club-ornithologiq
 ue/
URL:https://www.pradesardeche.fr/evenement/exposition-bourse-doiseaux-du-club-ornithologique/
END:VEVENT
END:VCALENDAR